Workbook

Sheet Formula
B17: MAKRO PLANNER morning training
B20: BMR | E20: Meal 1 | F20: Pre workout | H20: Protein | I20: =SUM(Calc!I17) -> 24 | K20: g
B21: 2000 | F21: "snack" | H21: Fat | I21: =SUM(Calc!J17) -> 4 | K21: g
H22: Carbs | I22: =SUM(Calc!K17) -> 19.8 | K22: g
B23: Weight kg | E23: Meal 2 | F23: Post workout | H23: Protein | I23: =SUM(Calc!I18) -> 78 | K23: g
B24: 100 | F24: "Breakfast" | H24: Fat | I24: =SUM(Calc!J18) -> 14.4 | K24: g
H25: Carbs | I25: =SUM(Calc!K18) -> 41.8 | K25: g
E26: Meal 3 | F26: Snack | H26: Protein | I26: =SUM(Calc!I19) -> 45 | K26: g
H27: Fat | I27: =SUM(Calc!J19) -> 11.2 | K27: g
H28: Carbs | I28: =SUM(Calc!K19) -> 13.2 | K28: g
E29: Meal 4 | F29: Lunch | H29: Protein | I29: =SUM(Calc!I20) -> 60 | K29: g
H30: Fat | I30: =SUM(Calc!J20) -> 19.2 | K30: g
H31: Carbs | I31: =SUM(Calc!K20) -> 16.5 | K31: g
E32: Meal 5 | F32: Snack | H32: Protein | I32: =SUM(Calc!I21) -> 45 | K32: g
H33: Fat | I33: =SUM(Calc!J21) -> 14.4 | K33: g
H34: Carbs | I34: =SUM(Calc!K21) -> 11 | K34: g
E35: Meal 6 | F35: Dinner | H35: Protein | I35: =SUM(Calc!I22) -> 48 | K35: g
H36: Fat | I36: =SUM(Calc!J22) -> 16.8 | K36: g
H37: Carbs | I37: =SUM(Calc!K22) -> 7.7 | K37: g

Sheet Calc
C4: BMR | D4: =SUM(Formula!B21) -> 2000
C5: Weight | D5: =SUM(Formula!B24) -> 100
G7: div 100 | J7: Percent
C8: Protein per kg bodyweight 3g | F8: =SUM(D5*3) -> 300 | G8: =SUM(F8/100) -> 3 | I8: Protein | J8: Fat | K8: carbs
C9: Fat per kg bodyweight 0,8g | F9: =SUM(D5*0.8) -> 80 | G9: =SUM(F9/100) -> 0.8 | H9: 1 | I9: 8 | J9: 5 | K9: 18
C10: Carbs per kg bodyweight 1,1g | F10: =SUM(D5*1.1) -> 110 | G10: =SUM(F10/100) -> 1.1 | H10: 2 | I10: 26 | J10: 18 | K10: 38
H11: 3 | I11: 15 | J11: 14 | K11: 12
H12: 4 | I12: 20 | J12: 24 | K12: 15
H13: 5 | I13: 15 | J13: 18 | K13: 10
H14: 6 | I14: 16 | J14: 21 | K14: 7
J15: Grams
I16: Protein | J16: Fat | K16: carbs
H17: 1 | I17: =SUM(I9*G8) -> 24 | J17: =SUM(J9*G9) -> 4 | K17: =SUM(K9*G10) -> 19.8
H18: 2 | I18: =SUM(I10*G8) -> 78 | J18: =SUM(J10*G9) -> 14.4 | K18: =SUM(G10*K10) -> 41.8
H19: 3 | I19: =SUM(I11*G8) -> 45 | J19: =SUM(J11*G9) -> 11.2 | K19: =SUM(K11*G10) -> 13.2
H20: 4 | I20: =SUM(I12*G8) -> 60 | J20: =SUM(J12*G9) -> 19.2 | K20: =SUM(K12*G10) -> 16.5
H21: 5 | I21: =SUM(I13*G8) -> 45 | J21: =SUM(J13*G9) -> 14.4 | K21: =SUM(K13*G10) -> 11
H22: 6 | I22: =SUM(I14*G8) -> 48 | J22: =SUM(J14*G9) -> 16.8 | K22: =SUM(K14*G10) -> 7.7
